BEGIN:VCALENDAR
VERSION:2.0
PRODID:-//Tukios.com/
BEGIN:VEVENT
UID:9d6ef21c-b1b2-4c29-8250-da571c7fd6a7@www.rochestercremation.com
DTSTAMP:20260423T204039Z
DTSTART:20260502T170000Z
DTEND:20260502T180000Z
SUMMARY:Burial
DESCRIPTION:
URL:https://www.rochestercremation.com/obituaries/david-miller
LOCATION:White Haven Memorial Garden 210 Marsh Road  Pittsford NY 14534
GEO:43.0955363;-77.4807955
END:VEVENT
END:VCALENDAR