BEGIN:VCALENDAR
VERSION:2.0
PRODID:-//Tukios.com/
BEGIN:VEVENT
UID:850563e3-6291-4f91-bdce-ad557a442970@www.rochestercremation.com
DTSTAMP:20260420T161606Z
DTSTART:20260529T190000Z
DTEND:20260529T230000Z
SUMMARY:Celebration of Life
DESCRIPTION:
URL:https://www.rochestercremation.com/obituaries/allen-flint
LOCATION:B. Forman Park (white house) 4507 Lake Road  Williamson NY 14589
GEO:43.2814683;-77.1693661
END:VEVENT
END:VCALENDAR