BEGIN:VCALENDAR
VERSION:2.0
PRODID:-//Tukios.com/
BEGIN:VEVENT
UID:7d37d68b-36d9-4ca7-9212-3c3ad96408e3@www.rochestercremation.com
DTSTAMP:20260420T161146Z
DTSTART:20260529T210000Z
DTEND:20260529T220000Z
SUMMARY:Memorial Service
DESCRIPTION:
URL:https://www.rochestercremation.com/obituaries/allen-flint
LOCATION:B. Forman Park (white house) 4507 Lake Road  Williamson NY 14589
GEO:43.2814683;-77.1693661
END:VEVENT
END:VCALENDAR